{
 "currentVersion": 10.41,
 "serviceDescription": "CACHE DE IMOVEIS CIDADÃO",
 "mapName": "Layers",
 "description": "",
 "copyrightText": "",
 "supportsDynamicLayers": false,
 "layers": [
  {
   "id": 0,
   "name": "IMOVEIS CIDADÃO",
   "parentLayerId": -1,
   "defaultVisibility": true,
   "subLayerIds": null,
   "minScale": 288895.277144,
   "maxScale": 0
  }
 ],
 "tables": [],
 "spatialReference": {
  "wkid": 31981,
  "latestWkid": 31981
 },
 "singleFusedMapCache": true,
 "tileInfo": {
  "rows": 256,
  "cols": 256,
  "dpi": 96,
  "format": "PNG",
  "compressionQuality": 0,
  "origin": {
   "x": -5120900,
   "y": 19998100
  },
  "spatialReference": {
   "wkid": 31981,
   "latestWkid": 31981
  },
  "lods": [
   {
    "level": 0,
    "resolution": 66.1459656252646,
    "scale": 250000
   },
   {
    "level": 1,
    "resolution": 33.0729828126323,
    "scale": 125000
   },
   {
    "level": 2,
    "resolution": 16.933367200067735,
    "scale": 64000
   },
   {
    "level": 3,
    "resolution": 8.466683600033868,
    "scale": 32000
   },
   {
    "level": 4,
    "resolution": 4.233341800016934,
    "scale": 16000
   },
   {
    "level": 5,
    "resolution": 2.116670900008467,
    "scale": 8000
   },
   {
    "level": 6,
    "resolution": 1.0583354500042335,
    "scale": 4000
   },
   {
    "level": 7,
    "resolution": 0.5291677250021167,
    "scale": 2000
   },
   {
    "level": 8,
    "resolution": 0.26458386250105836,
    "scale": 1000
   },
   {
    "level": 9,
    "resolution": 0.13229193125052918,
    "scale": 500
   },
   {
    "level": 10,
    "resolution": 0.06614596562526459,
    "scale": 250
   }
  ]
 },
 "initialExtent": {
  "xmin": 721314.4549303135,
  "ymin": 7733961.291081617,
  "xmax": 766082.0444654924,
  "ymax": 7744160.9989810325,
  "spatialReference": {
   "wkid": 31981,
   "latestWkid": 31981
  }
 },
 "fullExtent": {
  "xmin": 733439.1222,
  "ymin": 7720560.8604,
  "xmax": 760504.358,
  "ymax": 7746076.874,
  "spatialReference": {
   "wkid": 31981,
   "latestWkid": 31981
  }
 },
 "minScale": 250000,
 "maxScale": 500,
 "units": "esriMeters",
 "supportedImageFormatTypes": "PNG32,PNG24,PNG,JPG,DIB,TIFF,EMF,PS,PDF,GIF,SVG,SVGZ,BMP",
 "documentInfo": {
  "Title": "",
  "Author": "",
  "Comments": "CACHE DE IMOVEIS",
  "Subject": "IMOVEIS",
  "Category": "",
  "AntialiasingMode": "None",
  "TextAntialiasingMode": "Force",
  "Keywords": "IMOVEIS"
 },
 "capabilities": "Map,Query,Data",
 "supportedQueryFormats": "JSON, AMF, geoJSON",
 "exportTilesAllowed": false,
 "maxRecordCount": 1000,
 "maxImageHeight": 4096,
 "maxImageWidth": 4096,
 "supportedExtensions": ""
}
